BEGIN:VCALENDAR
VERSION:2.0
PRODID:spatie/icalendar-generator
DESCRIPTION:Events from Befriend
X-WR-CALDESC:Events from Befriend
REFRESH-INTERVAL;VALUE=DURATION:PT1440M
X-PUBLISHED-TTL:PT1440M
BEGIN:VTIMEZONE
TZID:Etc/GMT+0
BEGIN:STANDARD
DTSTART:20250815T140000Z
TZOFFSETFROM:+0000
TZOFFSETTO:+0000
END:STANDARD
END:VTIMEZONE
BEGIN:VTIMEZONE
TZID:UTC
BEGIN:STANDARD
DTSTART:20250725T094040Z
TZOFFSETFROM:+0000
TZOFFSETTO:+0000
END:STANDARD
END:VTIMEZONE
BEGIN:VEVENT
UID:3215-3205
DTSTAMP:20260421T094040Z
SUMMARY:Befriending Within: 10-Week Embodied Listening Course
LOCATION:Online event
ORGANIZER;CN=NewBefriendUser:MAILTO:david@peoplebeforeprofit.co
DTSTART;TZID=Etc/GMT+0:20260512T140000
DTEND;TZID=Etc/GMT+0:20260512T170000
X-ALT-DESC;FMTTYPE=TEXT/HTML:🤗 Welcome to Befriending Within 2026 Befrie
 nding Within (BW26)\, 10-Week Embodied Listening Course begins in April\, 
 and expressions of interest are now open. This gentle introduction to Foc
 using offers a grounded\, body-based practice of deep listening… a way t
 o slow down\, meet what’s here with more kindness\, and grow trust in yo
 ur own inner knowing. It’s&amp;hellip\;
CATEGORIES:Learning Workshops
URL;VALUE=URI:https://befriend.org.au/mc-events/befriending-within-10-week-
 embodied-listening-course-6/
METHOD:PUBLISH
END:VEVENT
END:VCALENDAR