BEGIN:VCALENDAR
VERSION:2.0
PRODID:spatie/icalendar-generator
DESCRIPTION:Events from Befriend
X-WR-CALDESC:Events from Befriend
REFRESH-INTERVAL;VALUE=DURATION:PT1440M
X-PUBLISHED-TTL:PT1440M
BEGIN:VTIMEZONE
TZID:Etc/GMT+0
BEGIN:STANDARD
DTSTART:20251118T093000Z
TZOFFSETFROM:+0000
TZOFFSETTO:+0000
END:STANDARD
END:VTIMEZONE
BEGIN:VTIMEZONE
TZID:UTC
BEGIN:STANDARD
DTSTART:20250725T121128Z
TZOFFSETFROM:+0000
TZOFFSETTO:+0000
END:STANDARD
END:VTIMEZONE
BEGIN:VEVENT
UID:1156-1146
DTSTAMP:20260421T121128Z
SUMMARY:Peel Community Social Meet
LOCATION:Picnic Tables Adventure Scapes 22 Bibra Way\, \,  South Yunderup
ORGANIZER;CN=Michael:MAILTO:michael@observation.studio
DTSTART;TZID=Etc/GMT+0:20260815T093000
DTEND;TZID=Etc/GMT+0:20260815T110100
X-ALT-DESC;FMTTYPE=TEXT/HTML:Meet your neighbours\, create a community. mak
 e friends locally. Foster Community Spirit. Disability Friendly. Stones Th
 row Cafe will be the alternative venue\, in case of inclement weather (Sto
 rms or extreme temperatures)
CATEGORIES:Meetup Events
URL;VALUE=URI:https://befriend.org.au/mc-events/peel-community-social-meet-
 15/
METHOD:PUBLISH
END:VEVENT
END:VCALENDAR