BEGIN:VCALENDAR
VERSION:2.0
PRODID:spatie/icalendar-generator
DESCRIPTION:Events from Befriend
X-WR-CALDESC:Events from Befriend
REFRESH-INTERVAL;VALUE=DURATION:PT1440M
X-PUBLISHED-TTL:PT1440M
BEGIN:VTIMEZONE
TZID:Etc/GMT+0
BEGIN:STANDARD
DTSTART:20250630T093000Z
TZOFFSETFROM:+0000
TZOFFSETTO:+0000
END:STANDARD
END:VTIMEZONE
BEGIN:VTIMEZONE
TZID:UTC
BEGIN:STANDARD
DTSTART:20250724T093718Z
TZOFFSETFROM:+0000
TZOFFSETTO:+0000
END:STANDARD
END:VTIMEZONE
BEGIN:VEVENT
UID:398-388
DTSTAMP:20260420T093718Z
SUMMARY:🌟 Shine &amp;amp\; Create – Diamond Art Group
LOCATION:Meerilinga Beechboro 106 Amazon Drive  Beechboro
ORGANIZER;CN=Michael:MAILTO:michael@observation.studio
DTSTART;TZID=Etc/GMT+0:20260327T093000
DTEND;TZID=Etc/GMT+0:20260327T113000
X-ALT-DESC;FMTTYPE=TEXT/HTML:🌟 Shine &amp;amp\; Create – Diamond Art Group
  📍 Meerilinga Beechboro\, 106 Amazon Drive\, Beechboro (City of Swan) 
 ✨ About the Group Join Simone and others in a safe\, welcoming\, and str
 ess-free space where we come together to enjoy the calming art of diamond 
 painting. Whether you’re new to it or already hooked\, this group&amp;hellip
 \;
CATEGORIES:Meetup Events
URL;VALUE=URI:https://befriend.org.au/mc-events/%f0%9f%8c%9f-shine-create-d
 iamond-art-group-8/
METHOD:PUBLISH
END:VEVENT
END:VCALENDAR